BEGIN:VCALENDAR
VERSION:2.0
PRODID:-//IndoMotoRacing - ECPv6.0.10//NONSGML v1.0//EN
CALSCALE:GREGORIAN
METHOD:PUBLISH
X-WR-CALNAME:IndoMotoRacing
X-ORIGINAL-URL:https://www.indomotoracing.com
X-WR-CALDESC:Events for IndoMotoRacing
REFRESH-INTERVAL;VALUE=DURATION:PT1H
X-Robots-Tag:noindex
X-PUBLISHED-TTL:PT1H
BEGIN:VTIMEZONE
TZID:Asia/Jakarta
BEGIN:STANDARD
TZOFFSETFROM:+0700
TZOFFSETTO:+0700
TZNAME:WIB
DTSTART:20230101T000000
END:STANDARD
END:VTIMEZONE
BEGIN:VEVENT
DTSTART;TZID=Asia/Jakarta:20230807T080000
DTEND;TZID=Asia/Jakarta:20230807T180000
DTSTAMP:20260422T135315
CREATED:20221223T192711Z
LAST-MODIFIED:20221223T192711Z
UID:1101-1691395200-1691431200@www.indomotoracing.com
SUMMARY:Moto2 2023: Jadwal Test Silverstone Moto2
DESCRIPTION:Sama halnya dengan MotoGP\, Moto2 dan Moto3 juga memiliki 2 kali test sehabis balapan. Adapun untuk kelas Moto2 dan MotoGP akan diadakan di Sirkuit Jerez dan Sirkuit Silverstone. \nUntuk waktunya adalah sebagai berikut: \nJerez test: 2 Mei 2023 \nSilverstone Test : 7 Agustus 2023
URL:https://www.indomotoracing.com/event/moto2-2023-jadwal-test-silverstone-moto2/
END:VEVENT
END:VCALENDAR