BEGIN:VCALENDAR
VERSION:2.0
PRODID:-//IndoMotoRacing - ECPv6.0.10//NONSGML v1.0//EN
CALSCALE:GREGORIAN
METHOD:PUBLISH
X-ORIGINAL-URL:https://www.indomotoracing.com
X-WR-CALDESC:Events for IndoMotoRacing
REFRESH-INTERVAL;VALUE=DURATION:PT1H
X-Robots-Tag:noindex
X-PUBLISHED-TTL:PT1H
BEGIN:VTIMEZONE
TZID:Asia/Jakarta
BEGIN:STANDARD
TZOFFSETFROM:+0700
TZOFFSETTO:+0700
TZNAME:WIB
DTSTART:20230101T000000
END:STANDARD
END:VTIMEZONE
BEGIN:VEVENT
DTSTART;TZID=Asia/Jakarta:20230317T080000
DTEND;TZID=Asia/Jakarta:20230319T170000
DTSTAMP:20260422T211525
CREATED:20221223T190312Z
LAST-MODIFIED:20221223T190312Z
UID:1093-1679040000-1679245200@www.indomotoracing.com
SUMMARY:Moto2 2023: Jadwal Test Moto2
DESCRIPTION:Selain test private juga akan diadakan test resmi salah satunya adalah test sebelum balapan perdana dan dikarenakan pada tahun 2023 pembukaan MotoGP akan dilangsungkan di Portimao maka test pun kan dilakukan di Sirkuit Portimao sebelum balapan dilaksanakan. \nAdapun jadwal untuk Moto3 dan Moto2 adalah bersamaan yaitu pada tanggal 17-19 Maret 2023
URL:https://www.indomotoracing.com/event/moto2-2023-jadwal-test-moto2/
END:VEVENT
END:VCALENDAR