BEGIN:VCALENDAR
VERSION:2.0
PRODID:-//IndoMotoRacing - ECPv6.0.10//NONSGML v1.0//EN
CALSCALE:GREGORIAN
METHOD:PUBLISH
X-ORIGINAL-URL:https://www.indomotoracing.com
X-WR-CALDESC:Events for IndoMotoRacing
REFRESH-INTERVAL;VALUE=DURATION:PT1H
X-Robots-Tag:noindex
X-PUBLISHED-TTL:PT1H
BEGIN:VTIMEZONE
TZID:Asia/Jakarta
BEGIN:STANDARD
TZOFFSETFROM:+0700
TZOFFSETTO:+0700
TZNAME:WIB
DTSTART:20230101T000000
END:STANDARD
END:VTIMEZONE
BEGIN:VEVENT
DTSTART;TZID=Asia/Jakarta:20230911T080000
DTEND;TZID=Asia/Jakarta:20230911T180000
DTSTAMP:20260424T064747
CREATED:20221223T073251Z
LAST-MODIFIED:20221223T073718Z
UID:1054-1694419200-1694455200@www.indomotoracing.com
SUMMARY:MotoGP 2023: Jadwal Test MotoGP Misano
DESCRIPTION:Kelas MotoGP akan memiliki juga Test Resmi yang akan dilakukan setelah balapan dilangsungkan. Dalam satu tahun akan ada 2 test tambahan setelah balapan. \nSalah satunya di Jerez yang akan dilangsungkan selama 1 hari yaitu pada tanggal 1 Mei 2023 dan test resmi selanjutnya setelah balapan akan dilangsungkan di Misano pada tanggal 11 September 2023
URL:https://www.indomotoracing.com/event/motogp-2023-jadwal-test-motogp-misano/
LOCATION:Misano World Circuit Marco Simoncelli\, San Marino
END:VEVENT
END:VCALENDAR